BEGIN:VCALENDAR
VERSION:2.0
PRODID:-//Eastern Polytechnic - ECPv4.8.2//NONSGML v1.0//EN
CALSCALE:GREGORIAN
METHOD:PUBLISH
X-WR-CALNAME:Eastern Polytechnic
X-ORIGINAL-URL:https://easternpolytechnic.edu.sl
X-WR-CALDESC:Events for Eastern Polytechnic
BEGIN:VEVENT
DTSTART;VALUE=DATE:20180525
DTEND;VALUE=DATE:20180526
DTSTAMP:20210813T035535
CREATED:20180521T120033Z
LAST-MODIFIED:20180521T120438Z
UID:2139-1527206400-1527292799@easternpolytechnic.edu.sl
SUMMARY:Council Meeting
DESCRIPTION:This is to inform all council members  \n
URL:https://easternpolytechnic.edu.sl/event/council-meeting/
LOCATION:Conference Hall
CATEGORIES:Administrative
ATTACH;FMTTYPE=image/jpeg:https://easternpolytechnic.edu.sl/wp-content/uploads/2018/05/DSCN1029.jpg
END:VEVENT
END:VCALENDAR